BEGIN:VCALENDAR
VERSION:2.0
PRODID:-//Upton Mens Club - ECPv6.15.18//NONSGML v1.0//EN
CALSCALE:GREGORIAN
METHOD:PUBLISH
X-ORIGINAL-URL:https://uptonmensclub.org
X-WR-CALDESC:Events for Upton Mens Club
REFRESH-INTERVAL;VALUE=DURATION:PT1H
X-Robots-Tag:noindex
X-PUBLISHED-TTL:PT1H
BEGIN:VTIMEZONE
TZID:America/New_York
BEGIN:DAYLIGHT
TZOFFSETFROM:-0500
TZOFFSETTO:-0400
TZNAME:EDT
DTSTART:20250309T070000
END:DAYLIGHT
BEGIN:STANDARD
TZOFFSETFROM:-0400
TZOFFSETTO:-0500
TZNAME:EST
DTSTART:20251102T060000
END:STANDARD
BEGIN:DAYLIGHT
TZOFFSETFROM:-0500
TZOFFSETTO:-0400
TZNAME:EDT
DTSTART:20260308T070000
END:DAYLIGHT
BEGIN:STANDARD
TZOFFSETFROM:-0400
TZOFFSETTO:-0500
TZNAME:EST
DTSTART:20261101T060000
END:STANDARD
BEGIN:DAYLIGHT
TZOFFSETFROM:-0500
TZOFFSETTO:-0400
TZNAME:EDT
DTSTART:20270314T070000
END:DAYLIGHT
BEGIN:STANDARD
TZOFFSETFROM:-0400
TZOFFSETTO:-0500
TZNAME:EST
DTSTART:20271107T060000
END:STANDARD
END:VTIMEZONE
BEGIN:VEVENT
DTSTART;TZID=America/New_York:20260201T170000
DTEND;TZID=America/New_York:20260201T190000
DTSTAMP:20260419T114330
CREATED:20241016T225056Z
LAST-MODIFIED:20260109T141858Z
UID:4314-1769965200-1769972400@uptonmensclub.org
SUMMARY:Valentines Dance
DESCRIPTION:Sponsored by the UPTON MEN’S CLUB \nDJ \n $20 per adult at the door \nRefreshments and Prizes
URL:https://uptonmensclub.org/event/valentines-dance/
LOCATION:Miscoe Hill School\, 148 North Ave\, Mendon\, MA\, 01756
ATTACH;FMTTYPE=image/png:https://uptonmensclub.org/wp-content/uploads/2023/12/heart.png
END:VEVENT
END:VCALENDAR