BEGIN:VCALENDAR
VERSION:2.0
PRODID:-//Upton Mens Club - ECPv6.15.18//NONSGML v1.0//EN
CALSCALE:GREGORIAN
METHOD:PUBLISH
X-WR-CALNAME:Upton Mens Club
X-ORIGINAL-URL:https://uptonmensclub.org
X-WR-CALDESC:Events for Upton Mens Club
REFRESH-INTERVAL;VALUE=DURATION:PT1H
X-Robots-Tag:noindex
X-PUBLISHED-TTL:PT1H
BEGIN:VTIMEZONE
TZID:America/New_York
BEGIN:DAYLIGHT
TZOFFSETFROM:-0500
TZOFFSETTO:-0400
TZNAME:EDT
DTSTART:20250309T070000
END:DAYLIGHT
BEGIN:STANDARD
TZOFFSETFROM:-0400
TZOFFSETTO:-0500
TZNAME:EST
DTSTART:20251102T060000
END:STANDARD
BEGIN:DAYLIGHT
TZOFFSETFROM:-0500
TZOFFSETTO:-0400
TZNAME:EDT
DTSTART:20260308T070000
END:DAYLIGHT
BEGIN:STANDARD
TZOFFSETFROM:-0400
TZOFFSETTO:-0500
TZNAME:EST
DTSTART:20261101T060000
END:STANDARD
BEGIN:DAYLIGHT
TZOFFSETFROM:-0500
TZOFFSETTO:-0400
TZNAME:EDT
DTSTART:20270314T070000
END:DAYLIGHT
BEGIN:STANDARD
TZOFFSETFROM:-0400
TZOFFSETTO:-0500
TZNAME:EST
DTSTART:20271107T060000
END:STANDARD
END:VTIMEZONE
BEGIN:VEVENT
DTSTART;TZID=America/New_York:20260520T183000
DTEND;TZID=America/New_York:20260520T213000
DTSTAMP:20260419T173712
CREATED:20231227T031139Z
LAST-MODIFIED:20260419T163647Z
UID:3761-1779301800-1779312600@uptonmensclub.org
SUMMARY:UMC Charter Dinner
DESCRIPTION:
URL:https://uptonmensclub.org/event/umc-charter-dinner/
LOCATION:New England Steak and Seafood\, 11 Uxbridge Rd\, Mendon\, MA\, United States
CATEGORIES:UMC Members
ATTACH;FMTTYPE=image/jpeg:https://uptonmensclub.org/wp-content/uploads/2022/05/UMC-LOGO-7-992x1024-1-e1651956437493.jpg
END:VEVENT
END:VCALENDAR