BEGIN:VCALENDAR
VERSION:2.0
PRODID:-//Upton Mens Club - ECPv6.15.18//NONSGML v1.0//EN
CALSCALE:GREGORIAN
METHOD:PUBLISH
X-WR-CALNAME:Upton Mens Club
X-ORIGINAL-URL:https://uptonmensclub.org
X-WR-CALDESC:Events for Upton Mens Club
REFRESH-INTERVAL;VALUE=DURATION:PT1H
X-Robots-Tag:noindex
X-PUBLISHED-TTL:PT1H
BEGIN:VTIMEZONE
TZID:America/New_York
BEGIN:DAYLIGHT
TZOFFSETFROM:-0500
TZOFFSETTO:-0400
TZNAME:EDT
DTSTART:20230312T070000
END:DAYLIGHT
BEGIN:STANDARD
TZOFFSETFROM:-0400
TZOFFSETTO:-0500
TZNAME:EST
DTSTART:20231105T060000
END:STANDARD
BEGIN:DAYLIGHT
TZOFFSETFROM:-0500
TZOFFSETTO:-0400
TZNAME:EDT
DTSTART:20240310T070000
END:DAYLIGHT
BEGIN:STANDARD
TZOFFSETFROM:-0400
TZOFFSETTO:-0500
TZNAME:EST
DTSTART:20241103T060000
END:STANDARD
BEGIN:DAYLIGHT
TZOFFSETFROM:-0500
TZOFFSETTO:-0400
TZNAME:EDT
DTSTART:20250309T070000
END:DAYLIGHT
BEGIN:STANDARD
TZOFFSETFROM:-0400
TZOFFSETTO:-0500
TZNAME:EST
DTSTART:20251102T060000
END:STANDARD
END:VTIMEZONE
BEGIN:VTIMEZONE
TZID:UTC
BEGIN:STANDARD
TZOFFSETFROM:+0000
TZOFFSETTO:+0000
TZNAME:UTC
DTSTART:20230101T000000
END:STANDARD
END:VTIMEZONE
BEGIN:VEVENT
DTSTART;TZID=America/New_York:20240515T193000
DTEND;TZID=America/New_York:20240515T213000
DTSTAMP:20260419T105224
CREATED:20231227T031139Z
LAST-MODIFIED:20240419T131911Z
UID:3761-1715801400-1715808600@uptonmensclub.org
SUMMARY:UMC Charter Dinner
DESCRIPTION:
URL:https://uptonmensclub.org/event/umc-charter-dinner/
LOCATION:Sorrento\, 143 Central St.\, Milford\, MA\, United States
CATEGORIES:UMC Members
ATTACH;FMTTYPE=image/jpeg:https://uptonmensclub.org/wp-content/uploads/2022/05/UMC-LOGO-7-992x1024-1-e1651956437493.jpg
END:VEVENT
BEGIN:VEVENT
DTSTART;TZID=America/New_York:20240412T160000
DTEND;TZID=America/New_York:20240412T180000
DTSTAMP:20260419T105224
CREATED:20231227T030812Z
LAST-MODIFIED:20231227T040816Z
UID:3757-1712937600-1712944800@uptonmensclub.org
SUMMARY:Senior Dinner April
DESCRIPTION:Space is limited. Please sign up at the Upton Senior Center. \nThank you!
URL:https://uptonmensclub.org/event/senior-dinner-april/
LOCATION:Upton Senior Center\, 9 Milford St.\, Upton\, MA\, 01568
CATEGORIES:Senior Dinners
ATTACH;FMTTYPE=image/jpeg:https://uptonmensclub.org/wp-content/uploads/2023/12/srdinner2-scaled.jpg
END:VEVENT
BEGIN:VEVENT
DTSTART;TZID=America/New_York:20240315T160000
DTEND;TZID=America/New_York:20240315T180000
DTSTAMP:20260419T105224
CREATED:20231227T030707Z
LAST-MODIFIED:20231227T040920Z
UID:3755-1710518400-1710525600@uptonmensclub.org
SUMMARY:Senior Dinner March
DESCRIPTION:Space is limited. Please sign up at the Upton Senior Center. \nThank you!
URL:https://uptonmensclub.org/event/senior-dinner-march/
LOCATION:Upton Senior Center\, 9 Milford St.\, Upton\, MA\, 01568
CATEGORIES:Senior Dinners
ATTACH;FMTTYPE=image/jpeg:https://uptonmensclub.org/wp-content/uploads/2023/12/srdinner1-scaled.jpg
END:VEVENT
BEGIN:VEVENT
DTSTART;TZID=UTC:20240313T193000
DTEND;TZID=UTC:20240313T230000
DTSTAMP:20260419T105224
CREATED:20240222T222713Z
LAST-MODIFIED:20240223T182431Z
UID:3815-1710358200-1710370800@uptonmensclub.org
SUMMARY:Men's Club Recruitment Night
DESCRIPTION:
URL:https://uptonmensclub.org/event/mens-club-recruitment-night/
LOCATION:Rushford & Sons Brewhouse\, 8 Grove St.\, Upton\, 01568\, United States
ATTACH;FMTTYPE=image/png:https://uptonmensclub.org/wp-content/uploads/2024/02/DALL·E-2024-02-22-11.10.57-make-an-image-of-3-beer-glasses-doing-cheers.png
END:VEVENT
BEGIN:VEVENT
DTSTART;TZID=America/New_York:20240216T160000
DTEND;TZID=America/New_York:20240216T180000
DTSTAMP:20260419T105224
CREATED:20231227T030528Z
LAST-MODIFIED:20231227T041053Z
UID:3753-1708099200-1708106400@uptonmensclub.org
SUMMARY:Senior Dinner February
DESCRIPTION:Space is limited. Please sign up at the Upton Senior Center. \nThank you!
URL:https://uptonmensclub.org/event/senior-dinner-february/
LOCATION:Upton Senior Center\, 9 Milford St.\, Upton\, MA\, 01568
CATEGORIES:Senior Dinners
ATTACH;FMTTYPE=image/jpeg:https://uptonmensclub.org/wp-content/uploads/2023/12/srdinner4-scaled.jpg
END:VEVENT
BEGIN:VEVENT
DTSTART;TZID=America/New_York:20240204T170000
DTEND;TZID=America/New_York:20240204T190000
DTSTAMP:20260419T105224
CREATED:20231227T023106Z
LAST-MODIFIED:20231227T032247Z
UID:3733-1707066000-1707073200@uptonmensclub.org
SUMMARY:Father Daughter Dance
DESCRIPTION:
URL:https://uptonmensclub.org/event/father-daughter-dance/
LOCATION:Miscoe Hill School\, 148 North Ave\, Mendon\, MA\, 01756
CATEGORIES:Public
ATTACH;FMTTYPE=image/png:https://uptonmensclub.org/wp-content/uploads/2023/12/heart.png
END:VEVENT
BEGIN:VEVENT
DTSTART;TZID=America/New_York:20240119T160000
DTEND;TZID=America/New_York:20240119T180000
DTSTAMP:20260419T105224
CREATED:20231227T030044Z
LAST-MODIFIED:20231227T041316Z
UID:3751-1705680000-1705687200@uptonmensclub.org
SUMMARY:Senior Dinner January
DESCRIPTION:Space is limited. Please sign up at the Upton Senior Center. \nThank you!
URL:https://uptonmensclub.org/event/senior-dinner-january/
LOCATION:Upton Senior Center\, 9 Milford St.\, Upton\, MA\, 01568
CATEGORIES:Senior Dinners
ATTACH;FMTTYPE=image/jpeg:https://uptonmensclub.org/wp-content/uploads/2023/12/srdinner2-scaled.jpg
END:VEVENT
END:VCALENDAR